BEGIN:VCALENDAR
VERSION:2.0
PRODID:-//Plone.org//NONSGML plone.app.event//EN
X-WR-TIMEZONE:Brazil/East
BEGIN:VEVENT
SUMMARY:Festejo de São Raimundo Nonato
DTSTART;TZID=Brazil/East;VALUE=DATE-TIME:20150821T000000
DTSTAMP;VALUE=DATE-TIME:20260423T192246Z
UID:740286f49b474a83856953bc627f6ddb@www.ribeirogoncalves.pi.leg.br
ATTENDEE;CN="Pe. Jose Aécio e Comunidade";ROLE=REQ-PARTICIPANT:Pe. Jose A
 écio e Comunidade
CREATED;VALUE=DATE-TIME:20150819T142935Z
DESCRIPTION:Festejo de São Raimundo Nonato no Bairro Bela Vista
LAST-MODIFIED;VALUE=DATE-TIME:20150819T145253Z
LOCATION:Bairro Bela Vista
URL:https://www.ribeirogoncalves.pi.leg.br/institucional/eventos/festejo-d
 e-sao-raimundo-nonato
END:VEVENT
BEGIN:VTIMEZONE
TZID:Brazil/East
X-LIC-LOCATION:Brazil/East
BEGIN:STANDARD
DTSTART;VALUE=DATE-TIME:20150221T230000
TZNAME:BRT
TZOFFSETFROM:-0200
TZOFFSETTO:-0300
END:STANDARD
END:VTIMEZONE
END:VCALENDAR
